BEGIN:VCALENDAR
VERSION:2.0
PRODID:-//EINrichtung für GElingende BeziehUNGen - ECPv6.15.20//NONSGML v1.0//EN
CALSCALE:GREGORIAN
METHOD:PUBLISH
X-ORIGINAL-URL:https://eingebung.info
X-WR-CALDESC:Veranstaltungen für EINrichtung für GElingende BeziehUNGen
REFRESH-INTERVAL;VALUE=DURATION:PT1H
X-Robots-Tag:noindex
X-PUBLISHED-TTL:PT1H
BEGIN:VTIMEZONE
TZID:Europe/Berlin
BEGIN:DAYLIGHT
TZOFFSETFROM:+0100
TZOFFSETTO:+0200
TZNAME:CEST
DTSTART:20240331T010000
END:DAYLIGHT
BEGIN:STANDARD
TZOFFSETFROM:+0200
TZOFFSETTO:+0100
TZNAME:CET
DTSTART:20241027T010000
END:STANDARD
BEGIN:DAYLIGHT
TZOFFSETFROM:+0100
TZOFFSETTO:+0200
TZNAME:CEST
DTSTART:20250330T010000
END:DAYLIGHT
BEGIN:STANDARD
TZOFFSETFROM:+0200
TZOFFSETTO:+0100
TZNAME:CET
DTSTART:20251026T010000
END:STANDARD
BEGIN:DAYLIGHT
TZOFFSETFROM:+0100
TZOFFSETTO:+0200
TZNAME:CEST
DTSTART:20260329T010000
END:DAYLIGHT
BEGIN:STANDARD
TZOFFSETFROM:+0200
TZOFFSETTO:+0100
TZNAME:CET
DTSTART:20261025T010000
END:STANDARD
END:VTIMEZONE
BEGIN:VEVENT
DTSTART;TZID=Europe/Berlin:20250425T180000
DTEND;TZID=Europe/Berlin:20250427T130000
DTSTAMP:20260424T103541
CREATED:20251009T100201Z
LAST-MODIFIED:20251009T103755Z
UID:3331-1745604000-1745758800@eingebung.info
SUMMARY:Ruhig bleiben in bewegten Zeiten
DESCRIPTION:﻿Ruhig bleiben in bewegten Zeiten \nWas auch kommen mag. \nSeminarbeschreibung \nEs gibt Sätze\, die gut gemeint sind: Jetzt entspann dich doch mal. Bleib doch einfach ruhig. Reg dich nicht so auf. Vielleicht haben Sie solche Ratschläge schon gehört. Doch statt uns zu unterstützen\, lassen sie uns allein mit dem\, was uns gerade bewegt. \nGleichzeitig berühren sie eine tiefe Sehnsucht: die Dinge entspannter anzugehen\, gelassen in Beziehungen zu sein und einen inneren Ort der Ruhe zu finden. \nSeminarleitung: Jürgen Brilmayer
URL:https://eingebung.info/termin/ruhig-bleiben-in-bewegten-zeiten/
LOCATION:Odenwaldinstitut\, Tromm 25\, Wald-Michelbach\, 69483
END:VEVENT
END:VCALENDAR