BEGIN:VCALENDAR
VERSION:2.0
PRODID:-//EINrichtung für GElingende BeziehUNGen - ECPv6.15.20//NONSGML v1.0//EN
CALSCALE:GREGORIAN
METHOD:PUBLISH
X-WR-CALNAME:EINrichtung für GElingende BeziehUNGen
X-ORIGINAL-URL:https://eingebung.info
X-WR-CALDESC:Veranstaltungen für EINrichtung für GElingende BeziehUNGen
REFRESH-INTERVAL;VALUE=DURATION:PT1H
X-Robots-Tag:noindex
X-PUBLISHED-TTL:PT1H
BEGIN:VTIMEZONE
TZID:Europe/Berlin
BEGIN:DAYLIGHT
TZOFFSETFROM:+0100
TZOFFSETTO:+0200
TZNAME:CEST
DTSTART:20240331T010000
END:DAYLIGHT
BEGIN:STANDARD
TZOFFSETFROM:+0200
TZOFFSETTO:+0100
TZNAME:CET
DTSTART:20241027T010000
END:STANDARD
BEGIN:DAYLIGHT
TZOFFSETFROM:+0100
TZOFFSETTO:+0200
TZNAME:CEST
DTSTART:20250330T010000
END:DAYLIGHT
BEGIN:STANDARD
TZOFFSETFROM:+0200
TZOFFSETTO:+0100
TZNAME:CET
DTSTART:20251026T010000
END:STANDARD
BEGIN:DAYLIGHT
TZOFFSETFROM:+0100
TZOFFSETTO:+0200
TZNAME:CEST
DTSTART:20260329T010000
END:DAYLIGHT
BEGIN:STANDARD
TZOFFSETFROM:+0200
TZOFFSETTO:+0100
TZNAME:CET
DTSTART:20261025T010000
END:STANDARD
END:VTIMEZONE
BEGIN:VEVENT
DTSTART;TZID=Europe/Berlin:20251015T100000
DTEND;TZID=Europe/Berlin:20251015T113000
DTSTAMP:20260424T011604
CREATED:20251009T101136Z
LAST-MODIFIED:20251009T103749Z
UID:3335-1760522400-1760527800@eingebung.info
SUMMARY:Fortlaufende Supervision Regionale Diakonie Odenwald
DESCRIPTION:Supervision für das Beratungsteam der Regionalen Diakonie Odenwald \nEng am beruflichen Alltag orientiert und durch konkrete\, abwechslungsreiche Übungen und Herangehensweisen erfahrungsbasiert angelegt\, entsteht durch die Supervision (einzeln oder auch im Team) ein Erfahrungswissen\, das nachhaltig wirkt. Damit werden Sie Ihre vielfältigen Aufgaben leichter meistern. \n\nDer Überblick wird wiederhergestellt.\nRessourcen und Kompetenzen wachsen.\nGesundheit\, Motivation und Leistungsbereitschaft werden gestärkt.
URL:https://eingebung.info/termin/fortlaufende-supervision-regionale-diakonie-odenwald/
LOCATION:Regionale Diakonie Odenwald\, Bahnhofstr. 38\, Michelstadt\, Hessen\, 64720\, Deutschland
END:VEVENT
END:VCALENDAR