BEGIN:VCALENDAR
VERSION:2.0
PRODID:-//EINrichtung für GElingende BeziehUNGen - ECPv6.15.20//NONSGML v1.0//EN
CALSCALE:GREGORIAN
METHOD:PUBLISH
X-WR-CALNAME:EINrichtung für GElingende BeziehUNGen
X-ORIGINAL-URL:https://eingebung.info
X-WR-CALDESC:Veranstaltungen für EINrichtung für GElingende BeziehUNGen
REFRESH-INTERVAL;VALUE=DURATION:PT1H
X-Robots-Tag:noindex
X-PUBLISHED-TTL:PT1H
BEGIN:VTIMEZONE
TZID:Europe/Berlin
BEGIN:DAYLIGHT
TZOFFSETFROM:+0100
TZOFFSETTO:+0200
TZNAME:CEST
DTSTART:20240331T010000
END:DAYLIGHT
BEGIN:STANDARD
TZOFFSETFROM:+0200
TZOFFSETTO:+0100
TZNAME:CET
DTSTART:20241027T010000
END:STANDARD
BEGIN:DAYLIGHT
TZOFFSETFROM:+0100
TZOFFSETTO:+0200
TZNAME:CEST
DTSTART:20250330T010000
END:DAYLIGHT
BEGIN:STANDARD
TZOFFSETFROM:+0200
TZOFFSETTO:+0100
TZNAME:CET
DTSTART:20251026T010000
END:STANDARD
BEGIN:DAYLIGHT
TZOFFSETFROM:+0100
TZOFFSETTO:+0200
TZNAME:CEST
DTSTART:20260329T010000
END:DAYLIGHT
BEGIN:STANDARD
TZOFFSETFROM:+0200
TZOFFSETTO:+0100
TZNAME:CET
DTSTART:20261025T010000
END:STANDARD
BEGIN:DAYLIGHT
TZOFFSETFROM:+0100
TZOFFSETTO:+0200
TZNAME:CEST
DTSTART:20270328T010000
END:DAYLIGHT
BEGIN:STANDARD
TZOFFSETFROM:+0200
TZOFFSETTO:+0100
TZNAME:CET
DTSTART:20271031T010000
END:STANDARD
END:VTIMEZONE
BEGIN:VEVENT
DTSTART;TZID=Europe/Berlin:20251228T180000
DTEND;TZID=Europe/Berlin:20260101T130000
DTSTAMP:20260423T201730
CREATED:20251029T115501Z
LAST-MODIFIED:20251029T115501Z
UID:3441-1766944800-1767272400@eingebung.info
SUMMARY:Ein Jahreswechsel der besonderen Art
DESCRIPTION:Diese besondere Zeit miteinander gestalten \nFragst du dich\, wie du Silvester einmal anders feiern kannst? Ist der Jahreswechsel eine besondere Zeit für dich\, nur bist du nicht ganz sicher\, wie du sie gestalten kannst? \nIn diesem Seminar bietet sich dir eine Gelegenheit\, gemeinsam mit anderen und uns Antworten auf deine Fragen zu finden. \nDie Zeit zwischen den Jahren eignet sich in besonderer Weise zum Rückblick\, zum Innehalten\, zum Zur-Ruhe-kommen. Altes kann gewürdigt\, bedacht ggf. weitergetragen und Neues kreiert werden. Dem wollen wir uns mit den Herangehensweisen der PrEssenz® und der Aufstellungsarbeit und viel Kreativität in vertrauensvoller Gruppenatmosphäre widmen. Spaß und Lebendigkeit sollen dabei auf keinen Fall zu kurz kommen. \nAuch Entspannung und Rituale zur Besinnlichkeit bekommen ihren Raum. Dazu bieten u.a. das Ambiente des Odenwaldinstitutes und die Zeitgestaltung Platz für Spaziergänge und Naturerfahrungen. Am Silvesterabend wollen wir gerne gemeinsam feiern. Von den Teilnehmenden wünschen wir uns Anregungen und Beiträge in Bezug auf ein freudvolles Miteinander\, Musik (selbst gemacht oder mitgebracht) und Unterhaltung. Das köstliche Silvesterbüffet wird vom Haus geliefert. \nTeilnehmende \nMenschen\, die neugierig auf sich selbst\, auf andere und das Leben sind. \nModeration: Dagmar Hosemann und Jürgen Brilmayer
URL:https://eingebung.info/termin/ein-jahreswechsel-der-besonderen-art-2/
LOCATION:Odenwaldinstitut\, Tromm 25\, Wald-Michelbach\, 69483
END:VEVENT
END:VCALENDAR